BEGIN:VCALENDAR
VERSION:2.0
METHOD:PUBLISH
PRODID:-//imacoda.com//SPD-Web-O-Mat//EN
CALSCALE:GREGORIAN
BEGIN:VTIMEZONE
TZID:Europe/Berlin
BEGIN:DAYLIGHT
TZOFFSETFROM:+0100
RRULE:FREQ=YEARLY;BYMONTH=3;BYDAY=-1SU
DTSTART:19810329T020000
TZNAME:MESZ
TZOFFSETTO:+0200
END:DAYLIGHT
BEGIN:STANDARD
TZOFFSETFROM:+0200
RRULE:FREQ=YEARLY;BYMONTH=10;BYDAY=-1SU
DTSTART:19961027T030000
TZNAME:MEZ
TZOFFSETTO:+0100
END:STANDARD
END:VTIMEZONE
BEGIN:VEVENT
UID:20240607T103336Z-00000964485-LULU@www.bayernspd.de
CREATED:20240607T103336Z
LAST-MODIFIED:20240613T063442Z
DTSTAMP:20240613T063442Z
TRANSP:TRANSPARENT
DTSTART;TZID=Europe/Berlin:20240817T160000
DTEND;TZID=Europe/Berlin:20240817T160000
SUMMARY:Sommerfest und Feier 100 Jahre Ortsverein
LOCATION:Garching\, am Binderfeld 10
DESCRIPTION:Termin im Web (SPD Garching-Hart):\nhttps://spd-garching-har
 t.de/termine/?id=964485
END:VEVENT
END:VCALENDAR
